BEGIN:VCALENDAR
VERSION:2.0
PRODID:DPCALENDAR
CALSCALE:GREGORIAN
BEGIN:VTIMEZONE
TZID:Europe/Berlin
X-MICROSOFT-CDO-TZID:4
BEGIN:STANDARD
DTSTART:20251026T010000
TZOFFSETFROM:+0200
TZOFFSETTO:+0100
TZNAME:CET
END:STANDARD
BEGIN:STANDARD
DTSTART:20261025T010000
TZOFFSETFROM:+0200
TZOFFSETTO:+0100
TZNAME:CET
END:STANDARD
BEGIN:DAYLIGHT
DTSTART:20260329T010000
TZOFFSETFROM:+0100
TZOFFSETTO:+0200
TZNAME:CEST
END:DAYLIGHT
END:VTIMEZONE
X-WR-TIMEZONE:Europe/Berlin
BEGIN:VEVENT
DTSTART;VALUE=DATE:20200904
DTEND;VALUE=DATE:20200908
UID:0B78AEE6-7144-4154-A305-B0C364213109
SUMMARY:Fortbildung
CREATED:20200831T080233Z
DTSTAMP:20200831T080233Z
URL:https://www.functionalmovementzone.at/schedule/fortbildung
LAST-MODIFIED:20200831T080304Z
SEQUENCE:31
X-ACCESS:1
X-HITS:3
X-COLOR:f0f0f0
X-SHOW-END-TIME:0
END:VEVENT
BEGIN:VEVENT
DTSTART;VALUE=DATE:20210909
DTEND;VALUE=DATE:20210913
UID:F8BB186D-BA9C-458A-872F-0DA7E7F53670
SUMMARY:Fortbildung
CREATED:20210907T152828Z
DTSTAMP:20210907T152828Z
URL:https://www.functionalmovementzone.at/schedule/fortbildung-2
LAST-MODIFIED:20210910T085135Z
SEQUENCE:235387
X-ACCESS:1
X-HITS:0
X-COLOR:f0f0f0
X-SHOW-END-TIME:0
END:VEVENT
BEGIN:VEVENT
DTSTART;TZID=Europe/Berlin:20211201T180000
DTEND;TZID=Europe/Berlin:20211201T190000
UID:2848256B-B5C6-4513-89D5-C32A18F9DDBD
SUMMARY:CYBERMOVE
CREATED:20211126T174816Z
DTSTAMP:20211126T174816Z
URL:https://www.functionalmovementzone.at/schedule/cybermove
DESCRIPTION:Mit Distanz von wo auch immer Du mitmachen möchtest!\NZOOM macht`s möglich!\NEinfach anmelden und dabei sein!
X-ALT-DESC;FMTTYPE=text/html:<p>Mit Distanz von wo auch immer Du mitmachen möchtest!</p><p>ZOOM macht`s möglich!</p><p>Einfach anmelden und dabei sein!</p>
X-ACCESS:1
X-HITS:40
X-COLOR:f0f0f0
X-SHOW-END-TIME:1
END:VEVENT
BEGIN:VEVENT
DTSTART;TZID=Europe/Berlin:20211203T100000
DTEND;TZID=Europe/Berlin:20211203T110000
UID:AC90CCE9-72B2-4A8B-87FB-2702A1C478EB
SUMMARY:CYBERMOVE - TWO FOR YOU
CREATED:20211126T175151Z
DTSTAMP:20211126T175151Z
URL:https://www.functionalmovementzone.at/schedule/cybermove-two-for-you
DESCRIPTION:Aus der Distanz, von wo auch immer Du möchtest!\NZOOM macht's möglich!\NDiesmal mit 2 coaches!
X-ALT-DESC;FMTTYPE=text/html:<p>Aus der Distanz, von wo auch immer Du möchtest!</p><p>ZOOM macht's möglich!</p><p>Diesmal mit 2 coaches!</p>
X-ACCESS:1
X-HITS:37
X-COLOR:f0f0f0
X-SHOW-END-TIME:1
END:VEVENT
BEGIN:VEVENT
DTSTART;TZID=Europe/Berlin:20211208T103000
DTEND;TZID=Europe/Berlin:20211208T113000
UID:DDB687C0-DD2C-4AE4-B4A2-988160BA87F3
SUMMARY:CYBERMOVE 3
CREATED:20211207T094215Z
DTSTAMP:20211207T094215Z
URL:https://www.functionalmovementzone.at/schedule/cybermove-3
DESCRIPTION:DIGITAL statt VIRAL!\NZOOM-BEWEGUNG ohne vor die Tür zu gehen!\N 
X-ALT-DESC;FMTTYPE=text/html:<p>DIGITAL statt VIRAL!</p><p>ZOOM-BEWEGUNG ohne vor die Tür zu gehen!</p><p>&nbsp;</p>
LAST-MODIFIED:20211207T094329Z
SEQUENCE:74
X-ACCESS:1
X-HITS:43
X-COLOR:f0f0f0
X-SHOW-END-TIME:1
END:VEVENT
BEGIN:VEVENT
DTSTART;TZID=Europe/Berlin:20211210T100000
DTEND;TZID=Europe/Berlin:20211210T110000
UID:F63F1B25-600C-4C1E-8C3E-222CEE404959
SUMMARY:CYBERMOVE 4
CREATED:20211207T094526Z
DTSTAMP:20211207T094526Z
URL:https://www.functionalmovementzone.at/schedule/cybermove-4
DESCRIPTION:DIGITAL statt VIRAL!\NZOOM-BEWEGUNG ohne vor die Tür zu gehen!
X-ALT-DESC;FMTTYPE=text/html:<p>DIGITAL statt VIRAL!</p><p>ZOOM-BEWEGUNG ohne vor die Tür zu gehen!</p>
X-ACCESS:1
X-HITS:44
X-COLOR:f0f0f0
X-SHOW-END-TIME:1
END:VEVENT
BEGIN:VEVENT
DTSTART;TZID=Europe/Berlin:20211221T183000
DTEND;TZID=Europe/Berlin:20211221T193000
UID:15250BB9-B790-4E5D-9F48-BE0577E628D1
SUMMARY:CYBERMOVE 5
CREATED:20211212T162118Z
DTSTAMP:20211212T162118Z
URL:https://www.functionalmovementzone.at/schedule/cybermove-5
DESCRIPTION:Digitales Bewegen - von wo auch immer Du möchtest!
X-ALT-DESC;FMTTYPE=text/html:<p>Digitales Bewegen - von wo auch immer Du möchtest!</p>
X-ACCESS:1
X-HITS:19
X-COLOR:f0f0f0
X-SHOW-END-TIME:1
END:VEVENT
BEGIN:VEVENT
DTSTART;TZID=Europe/Berlin:20211228T183000
DTEND;TZID=Europe/Berlin:20211228T193000
UID:2166D665-EB7C-4FA1-B825-C50770B7494D
SUMMARY:CYBERMOVE 6
CREATED:20211212T163329Z
DTSTAMP:20211212T163329Z
URL:https://www.functionalmovementzone.at/schedule/cybermove-6
DESCRIPTION:Digitales Bewegen - von wo auch immer Du möchtest!
X-ALT-DESC;FMTTYPE=text/html:<p>Digitales Bewegen - von wo auch immer Du möchtest!</p>
X-ACCESS:1
X-HITS:50
X-COLOR:f0f0f0
X-SHOW-END-TIME:1
END:VEVENT
BEGIN:VEVENT
DTSTART;TZID=Europe/Berlin:20220113T190000
DTEND;TZID=Europe/Berlin:20220113T200000
UID:2A06A5D2-003D-4DD8-A3BE-964CEBD1E46D
SUMMARY:CYBERMOVE 7
CREATED:20220109T114746Z
DTSTAMP:20220109T114746Z
URL:https://www.functionalmovementzone.at/schedule/cybermove-7
DESCRIPTION:Unsere digitale Bewegungsform - von wo auch immer Du dabei sein möchtest!
X-ALT-DESC;FMTTYPE=text/html:<p>Unsere digitale Bewegungsform - von wo auch immer Du dabei sein möchtest!</p>
X-ACCESS:1
X-HITS:38
X-COLOR:f0f0f0
X-SHOW-END-TIME:1
END:VEVENT
BEGIN:VEVENT
DTSTART;TZID=Europe/Berlin:20220119T183000
DTEND;TZID=Europe/Berlin:20220119T200000
UID:16D60683-EE84-4C47-8712-150B1C2BD710
SUMMARY:PEOPLES CHOICE - BEWEGUNG NACH WUNSCH
CREATED:20220116T193608Z
DTSTAMP:20220116T193608Z
URL:https://www.functionalmovementzone.at/schedule/peoples-choice-bewegung-nach-wunsch
DESCRIPTION:Egal ob die Lieblingsrückenübung oder das bevorzugte Trainingstool... in dieser Einheit bestimmt jeder Teilnehmer was passiert!\NAlso überlege Dir gut, worum es hier gehen soll!
X-ALT-DESC;FMTTYPE=text/html:<p>Egal ob die Lieblingsrückenübung oder das bevorzugte Trainingstool... in dieser Einheit bestimmt jeder Teilnehmer was passiert!</p><p>Also überlege Dir gut, worum es hier gehen soll!</p>
LAST-MODIFIED:20220116T193710Z
SEQUENCE:62
X-ACCESS:1
X-HITS:54
X-COLOR:f0f0f0
X-SHOW-END-TIME:1
END:VEVENT
BEGIN:VEVENT
DTSTART;TZID=Europe/Berlin:20220127T190000
DTEND;TZID=Europe/Berlin:20220127T200000
UID:D00AF0E5-FFF2-4354-9993-F437B137BD0D
SUMMARY:CYBERMOVE 8
CREATED:20220113T200359Z
DTSTAMP:20220113T200359Z
URL:https://www.functionalmovementzone.at/schedule/cybermove-8
DESCRIPTION:Funktionelles Bewegen geht auch DIGITAL - von wo auch immer Du möchtest!
X-ALT-DESC;FMTTYPE=text/html:<p>Funktionelles Bewegen geht auch DIGITAL - von wo auch immer Du möchtest!</p>
X-ACCESS:1
X-HITS:49
X-COLOR:f0f0f0
X-SHOW-END-TIME:1
END:VEVENT
BEGIN:VEVENT
DTSTART;TZID=Europe/Berlin:20220210T190000
DTEND;TZID=Europe/Berlin:20220210T200000
UID:0A1C878B-3AD4-4133-B995-F0EED7C5ABB0
SUMMARY:CYBERMOVE 9
CREATED:20220130T230258Z
DTSTAMP:20220130T230258Z
URL:https://www.functionalmovementzone.at/schedule/cybermove-9
DESCRIPTION:Unsere DIGITALE Schiene: Sei via ZOOM dabei, von wo auch immer Du möchtest!
X-ALT-DESC;FMTTYPE=text/html:<p>Unsere DIGITALE Schiene: Sei via ZOOM dabei, von wo auch immer Du möchtest!</p>
LAST-MODIFIED:20220130T230337Z
SEQUENCE:39
X-ACCESS:1
X-HITS:29
X-COLOR:f0f0f0
X-SHOW-END-TIME:1
END:VEVENT
BEGIN:VEVENT
DTSTART;TZID=Europe/Berlin:20220224T190000
DTEND;TZID=Europe/Berlin:20220224T200000
UID:E192F42D-14CE-4D96-879F-7E3B9342E27F
SUMMARY:CYBERMOVE 10
CREATED:20220130T230523Z
DTSTAMP:20220130T230523Z
URL:https://www.functionalmovementzone.at/schedule/cybermove-10
DESCRIPTION:Unsere DIGITALE Schiene - sei via ZOOM dabei von wo auch immer Du möchtest!
X-ALT-DESC;FMTTYPE=text/html:<p>Unsere DIGITALE Schiene - sei via ZOOM dabei von wo auch immer Du möchtest!</p>
LAST-MODIFIED:20220130T230612Z
SEQUENCE:49
X-ACCESS:1
X-HITS:26
X-COLOR:f0f0f0
X-SHOW-END-TIME:1
END:VEVENT
BEGIN:VEVENT
DTSTART;TZID=Europe/Berlin:20220303T190000
DTEND;TZID=Europe/Berlin:20220303T200000
UID:962F1EBC-19B9-4F9B-9638-5CC19D67E13A
SUMMARY:CYBERMOVE 11
CREATED:20220224T120415Z
DTSTAMP:20220224T120415Z
URL:https://www.functionalmovementzone.at/schedule/cybermove-11
DESCRIPTION:Funktionelles Bewegen geht auch DIGITAL!
X-ALT-DESC;FMTTYPE=text/html:<p>Funktionelles Bewegen geht auch DIGITAL!</p>
LAST-MODIFIED:20220224T120559Z
SEQUENCE:104
X-ACCESS:1
X-HITS:40
X-COLOR:f0f0f0
X-SHOW-END-TIME:1
END:VEVENT
BEGIN:VEVENT
DTSTART;VALUE=DATE:20220617
DTEND;VALUE=DATE:20220618
UID:3F4A7BAB-88E9-4934-B258-1BC4B5B67B97
SUMMARY:FORTBILDUNG
CREATED:20220524T095321Z
DTSTAMP:20220524T095321Z
URL:https://www.functionalmovementzone.at/schedule/fortbildung-3
LAST-MODIFIED:20220525T112808Z
SEQUENCE:92087
X-ACCESS:1
X-HITS:9
X-COLOR:f0f0f0
X-SHOW-END-TIME:1
END:VEVENT
BEGIN:VEVENT
DTSTART;VALUE=DATE:20220618
DTEND;VALUE=DATE:20220619
UID:F6BE1D12-B2A6-47D8-8122-FE0AC513289B
SUMMARY:FORTBILDUNG
CREATED:20220524T095436Z
DTSTAMP:20220524T095436Z
URL:https://www.functionalmovementzone.at/schedule/fortbildung-4
LAST-MODIFIED:20220525T112816Z
SEQUENCE:92020
X-ACCESS:1
X-HITS:6
X-COLOR:f0f0f0
X-SHOW-END-TIME:1
END:VEVENT
BEGIN:VEVENT
DTSTART;VALUE=DATE:20220625
DTEND;VALUE=DATE:20220702
UID:7AE08DA6-1348-49FA-9208-2CFBC4D408AE
SUMMARY:URLAUBSSPERRE VON 25.6.22 - 1.7.22
CREATED:20220524T100139Z
DTSTAMP:20220524T100139Z
URL:https://www.functionalmovementzone.at/schedule/urlaubssperre-von-25-6-22-1-7-22
LAST-MODIFIED:20220525T112658Z
SEQUENCE:91519
X-ACCESS:1
X-HITS:20
X-COLOR:f0f0f0
X-SHOW-END-TIME:1
END:VEVENT
BEGIN:VEVENT
DTSTART;VALUE=DATE:20230909
DTEND;VALUE=DATE:20230914
UID:5B21F6ED-EAB3-4E9F-9330-02176A5DC664
SUMMARY:SPERRE VON 9.-13.09.
CREATED:20220524T100139Z
DTSTAMP:20220524T100139Z
URL:https://www.functionalmovementzone.at/schedule/sperre-von-9-13-09
LAST-MODIFIED:20230905T134206Z
SEQUENCE:40534827
X-ACCESS:1
X-HITS:2
X-COLOR:f0f0f0
X-SHOW-END-TIME:1
END:VEVENT
BEGIN:VEVENT
DTSTART;TZID=Europe/Berlin:20240426T000000
DTEND;TZID=Europe/Berlin:20240426T010000
UID:AF18F3E7-B96A-446A-A92F-135C97450437
SUMMARY:DIE FMZ IST VON 26.4. - 28.4. GESPERRT!
CREATED:20240417T110120Z
DTSTAMP:20240417T110120Z
URL:https://www.functionalmovementzone.at/schedule/die-fmz-ist-von-26-4-28-4-gesperrt
X-ACCESS:1
X-HITS:9
X-COLOR:f0f0f0
X-SHOW-END-TIME:1
END:VEVENT
BEGIN:VEVENT
DTSTART;TZID=Europe/Berlin:20240619T000000
DTEND;TZID=Europe/Berlin:20240623T000000
UID:C597DBBE-2B5E-48EB-8A32-6BB143BC90CA
SUMMARY:SPERRE DER FMZ VON 19.6. - 23.6. WEGEN FORTBILDUNG!
CREATED:20240501T105847Z
DTSTAMP:20240501T105847Z
URL:https://www.functionalmovementzone.at/schedule/sperre-der-fmz-von-19-6-23-6
LAST-MODIFIED:20240501T105958Z
SEQUENCE:71
X-ACCESS:1
X-HITS:28
X-COLOR:f0f0f0
X-SHOW-END-TIME:1
END:VEVENT
BEGIN:VEVENT
DTSTART;TZID=Europe/Berlin:20240906T000000
DTEND;TZID=Europe/Berlin:20240911T233000
UID:5841CAB8-A9AC-4387-8564-6C48D36479FC
SUMMARY:+++ SPERRE DER FMZ VON 6.9.-11.9. +++
CREATED:20240830T071035Z
DTSTAMP:20240830T071035Z
URL:https://www.functionalmovementzone.at/schedule/sperre-der-fmz-von-6-9-11-9
X-ACCESS:1
X-HITS:41
X-COLOR:f0f0f0
X-SHOW-END-TIME:1
END:VEVENT
BEGIN:VEVENT
DTSTART;TZID=Europe/Berlin:20241221T000000
DTEND;TZID=Europe/Berlin:20241226T233000
UID:7C96A285-05FC-41DA-931F-FCD1C9C3586C
SUMMARY:SPERRE VOM 21.12. - 26.12.
CREATED:20241029T083516Z
DTSTAMP:20241029T083516Z
URL:https://www.functionalmovementzone.at/schedule/sperre-vom-21-12-26-12
LAST-MODIFIED:20241029T092042Z
SEQUENCE:2726
X-ACCESS:1
X-HITS:9
X-COLOR:f0f0f0
X-SHOW-END-TIME:1
END:VEVENT
BEGIN:VEVENT
DTSTART;TZID=Europe/Berlin:20241229T000000
DTEND;TZID=Europe/Berlin:20250106T233000
UID:7DC3B7C4-607A-490A-8BCF-F562EFB123D8
SUMMARY:SPERRE VOM 29.12 - 6.1.25
CREATED:20241029T092002Z
DTSTAMP:20241029T092002Z
URL:https://www.functionalmovementzone.at/schedule/sperre-vom-29-12-1-1-25
LAST-MODIFIED:20241209T211923Z
SEQUENCE:3585561
X-ACCESS:1
X-HITS:26
X-COLOR:f0f0f0
X-SHOW-END-TIME:1
END:VEVENT
BEGIN:VEVENT
DTSTART;TZID=Europe/Berlin:20250623T000000
DTEND;TZID=Europe/Berlin:20250626T233000
UID:6C5F9E30-1E12-460E-9757-DFA6539D00F7
SUMMARY:SPERRE VOM 23.6.-26.6.
CREATED:20250520T065449Z
DTSTAMP:20250520T065449Z
URL:https://www.functionalmovementzone.at/schedule/sperre-vom-23-6-26-6
LAST-MODIFIED:20250520T065903Z
SEQUENCE:254
X-ACCESS:1
X-HITS:6
X-COLOR:f0f0f0
X-SHOW-END-TIME:1
END:VEVENT
END:VCALENDAR