BEGIN:VCALENDAR
VERSION:2.0
PRODID:DPCALENDAR
CALSCALE:GREGORIAN
BEGIN:VTIMEZONE
TZID:Europe/Berlin
X-MICROSOFT-CDO-TZID:4
BEGIN:STANDARD
DTSTART:20251026T010000
TZOFFSETFROM:+0200
TZOFFSETTO:+0100
TZNAME:CET
END:STANDARD
BEGIN:STANDARD
DTSTART:20261025T010000
TZOFFSETFROM:+0200
TZOFFSETTO:+0100
TZNAME:CET
END:STANDARD
BEGIN:DAYLIGHT
DTSTART:20260329T010000
TZOFFSETFROM:+0100
TZOFFSETTO:+0200
TZNAME:CEST
END:DAYLIGHT
END:VTIMEZONE
X-WR-TIMEZONE:Europe/Berlin
BEGIN:VEVENT
DTSTART;TZID=Europe/Berlin:20220721T103000
DTEND;TZID=Europe/Berlin:20220721T120000
UID:5E8C1767-1D0F-44B1-9374-9FECE25D85B1
SUMMARY:PALEO MOVEMENT: HUMAN EVOLUTION
CREATED:20220715T194111Z
DTSTAMP:20220715T194111Z
URL:https://www.functionalmovementzone.at/schedule/paleo-movement-human-evolution
DESCRIPTION:Vom Krabbeln zum aufrechten Gang zum Kampf - die Entwicklung des Menschen in Bewegungsmustern!
X-ALT-DESC;FMTTYPE=text/html:<p>Vom Krabbeln zum aufrechten Gang zum Kampf - die Entwicklung des Menschen in Bewegungsmustern!</p>
X-ACCESS:1
X-HITS:29
X-COLOR:c2c2a3
X-SHOW-END-TIME:1
END:VEVENT
BEGIN:VEVENT
DTSTART;TZID=Europe/Berlin:20221126T110000
DTEND;TZID=Europe/Berlin:20221126T123000
UID:7249B62B-AA0B-4929-BA0A-2A3091F0EF01
SUMMARY:PALEO MOVEMENT: WELCOME TO THE JUNGLE!
CREATED:20221022T134330Z
DTSTAMP:20221022T134330Z
URL:https://www.functionalmovementzone.at/schedule/paleo-movement-welcome-to-the-jungle-2
DESCRIPTION:Bist Du Tarzan oder Jane? Egal, beide sind willkommen in dieser urigen Einheit, in der getanzt, gekämpft, geschwungen, gehangen, getrommelt, gekrochen und dergleichen, wird. Die FMZ verwandelt sich in ein Dschungel-Paradies in der ihr abtauchen und wildes, ursprüngliches Bewegen wiederentdeckt!
X-ALT-DESC;FMTTYPE=text/html:<p>Bist Du Tarzan oder Jane? Egal, beide sind willkommen in dieser urigen Einheit, in der getanzt, gekämpft, geschwungen, gehangen, getrommelt, gekrochen und dergleichen, wird. Die FMZ verwandelt sich in ein Dschungel-Paradies in der ihr abtauchen und wildes, ursprüngliches Bewegen wiederentdeckt!</p>
X-ACCESS:1
X-HITS:200
X-COLOR:c2c2a3
X-SHOW-END-TIME:1
END:VEVENT
BEGIN:VEVENT
DTSTART;TZID=Europe/Berlin:20221205T183000
DTEND;TZID=Europe/Berlin:20221205T200000
UID:A3469D10-8BAD-4BF0-AB51-052E33B80900
SUMMARY:PALEO MOVEMENT: GINASTICA ANIMALIA INIZIO
CREATED:20221122T231852Z
DTSTAMP:20221122T231852Z
URL:https://www.functionalmovementzone.at/schedule/paleo-movement-ginastica-animalia-inizio
DESCRIPTION:Bewegungen aus dem Tierreich sind hochfunktionell und uns eigentlich vertraut, zumal wir ja selbst einmal dieser Gattung angehört haben. Krabbeln, Kriechen, Sprigen und Schlängeln - hier erfährst Du, wie es geht - es werden die Grundmuster animalischer Bewegungen erlernt. Nach dieser Einheit wirst Du Dich TIERISCH WOHL FÜHLEN!
X-ALT-DESC;FMTTYPE=text/html:<p>Bewegungen aus dem Tierreich sind hochfunktionell und uns eigentlich vertraut, zumal wir ja selbst einmal dieser Gattung angehört haben. Krabbeln, Kriechen, Sprigen und Schlängeln - hier erfährst Du, wie es geht - es werden die Grundmuster animalischer Bewegungen erlernt. Nach dieser Einheit wirst Du Dich TIERISCH WOHL FÜHLEN!</p>
X-ACCESS:1
X-HITS:66
X-COLOR:c2c2a3
X-SHOW-END-TIME:1
END:VEVENT
BEGIN:VEVENT
DTSTART;TZID=Europe/Berlin:20230403T183000
DTEND;TZID=Europe/Berlin:20230403T200000
UID:BD227028-E00F-4809-9F37-7F76ED90A753
SUMMARY:PALEO MOVEMENT: GINASTICA ANIMALIA INIZIO
CREATED:20230307T075831Z
DTSTAMP:20230307T075831Z
URL:https://www.functionalmovementzone.at/schedule/paleo-movement-ginastica-animalia-inizio-2
DESCRIPTION:Bewegungen aus dem Tierreich sind hochfunktionell und uns eigentlich vertraut, zumal wir ja selbst einmal dieser Gattung angehört haben. Krabbeln, Kriechen, Sprigen und Schlängeln - hier erfährst Du, wie es geht - es werden die Grundmuster animalischer Bewegungen erlernt. Nach dieser Einheit wirst Du Dich TIERISCH WOHL FÜHLEN!
X-ALT-DESC;FMTTYPE=text/html:<p>Bewegungen aus dem Tierreich sind hochfunktionell und uns eigentlich vertraut, zumal wir ja selbst einmal dieser Gattung angehört haben. Krabbeln, Kriechen, Sprigen und Schlängeln - hier erfährst Du, wie es geht - es werden die Grundmuster animalischer Bewegungen erlernt. Nach dieser Einheit wirst Du Dich TIERISCH WOHL FÜHLEN!</p>
X-ACCESS:1
X-HITS:139
X-COLOR:c2c2a3
X-SHOW-END-TIME:1
END:VEVENT
BEGIN:VEVENT
DTSTART;TZID=Europe/Berlin:20240309T110000
DTEND;TZID=Europe/Berlin:20240309T123000
UID:21B05F13-B565-47B7-B59E-674C428DCA78
SUMMARY:WELCOME TO THE JUNGLE - THE STORY OF TARZAN & JANE
CREATED:20240216T085040Z
DTSTAMP:20240216T085040Z
URL:https://www.functionalmovementzone.at/schedule/welcome-to-the-jungle-the-story-of-tarzan-jane
DESCRIPTION:Tauche ein in den Dschungel - auf der Suche nach Tarzan, Balu und Shir-Kan! Im Dschungel musst Du Hängen, Schwingen, Balancieren, Kriechen, Springen, Tanzen, Kämpfen - kurzum alles, was das Bewegungsherz so begehrt! SO GEHT NATÜRLICHES BEWEGEN!
X-ALT-DESC;FMTTYPE=text/html:<p>Tauche ein in den Dschungel - auf der Suche nach Tarzan, Balu und Shir-Kan! Im Dschungel musst Du Hängen, Schwingen, Balancieren, Kriechen, Springen, Tanzen, Kämpfen - kurzum alles, was das Bewegungsherz so begehrt! SO GEHT NATÜRLICHES BEWEGEN!</p>
X-ACCESS:1
X-HITS:108
X-COLOR:c2c2a3
X-SHOW-END-TIME:1
END:VEVENT
BEGIN:VEVENT
DTSTART;TZID=Europe/Berlin:20250414T183000
DTEND;TZID=Europe/Berlin:20250414T200000
UID:2D7209A7-064A-4587-A828-630FFC3394F7
SUMMARY:PALEO MOVEMENT: THE PRIMAL ZONE
CREATED:20250312T145120Z
DTSTAMP:20250312T145120Z
URL:https://www.functionalmovementzone.at/schedule/paleo-movement-the-primal-zone
DESCRIPTION:"Where do we come from?" Eine wichtige Frage, die sich jeder stellen sollte, wenn es um die bewegte Herkuft geht. Fest steht: Der HOMO MOTUS - der bewegte Mensch - steckt immer noch in uns, und um der Tatsache, dass wir immer bewegungsärmer werden, entgegen zu wirken, machen wir eine illustre Zeitreise ZURÜCK ZUM URSPRUNG!
X-ALT-DESC;FMTTYPE=text/html:<p>"Where do we come from?" Eine wichtige Frage, die sich jeder stellen sollte, wenn es um die bewegte Herkuft geht. Fest steht: Der HOMO MOTUS - der bewegte Mensch - steckt immer noch in uns, und um der Tatsache, dass wir immer bewegungsärmer werden, entgegen zu wirken, machen wir eine illustre Zeitreise ZURÜCK ZUM URSPRUNG!</p>
LAST-MODIFIED:20250312T145201Z
SEQUENCE:41
X-ACCESS:1
X-HITS:96
X-COLOR:c2c2a3
X-SHOW-END-TIME:1
END:VEVENT
BEGIN:VEVENT
DTSTART;TZID=Europe/Berlin:20250526T183000
DTEND;TZID=Europe/Berlin:20250526T200000
UID:E7C39E61-21B4-4FFD-8C17-5082762B688C
SUMMARY:PALEO MOVEMENT: THE PRIMAL ZONE
CREATED:20250424T114337Z
DTSTAMP:20250424T114337Z
URL:https://www.functionalmovementzone.at/schedule/paleo-movement-the-primal-zone-2
DESCRIPTION:"Where do we come from?" Eine wichtige Frage, die sich jeder stellen sollte, wenn es um die bewegte Herkuft geht. Fest steht: Der HOMO MOTUS - der bewegte Mensch - steckt immer noch in uns, und um der Tatsache, dass wir immer bewegungsärmer werden, entgegen zu wirken, machen wir eine illustre Zeitreise ZURÜCK ZUM URSPRUNG!
X-ALT-DESC;FMTTYPE=text/html:<p>"Where do we come from?" Eine wichtige Frage, die sich jeder stellen sollte, wenn es um die bewegte Herkuft geht. Fest steht: Der HOMO MOTUS - der bewegte Mensch - steckt immer noch in uns, und um der Tatsache, dass wir immer bewegungsärmer werden, entgegen zu wirken, machen wir eine illustre Zeitreise ZURÜCK ZUM URSPRUNG!</p>
X-ACCESS:1
X-HITS:65
X-COLOR:c2c2a3
X-SHOW-END-TIME:1
END:VEVENT
BEGIN:VEVENT
DTSTART;TZID=Europe/Berlin:20251110T183000
DTEND;TZID=Europe/Berlin:20251110T200000
UID:16FEFDEA-2A52-452C-B8FA-67F4BFD38F43
SUMMARY:PALEO MOVEMENT: THE PRIMAL ZONE
CREATED:20251015T070835Z
DTSTAMP:20251015T070835Z
URL:https://www.functionalmovementzone.at/schedule/paleo-movement-the-primal-zone-4
DESCRIPTION:"Where do we come from?" Eine wichtige Frage, die sich jeder stellen sollte, wenn es um die bewegte Herkuft geht. Fest steht: Der HOMO MOTUS - der bewegte Mensch - steckt immer noch in uns, und um der Tatsache, dass wir immer bewegungsärmer werden, entgegen zu wirken, machen wir eine illustre Zeitreise ZURÜCK ZUM URSPRUNG!
X-ALT-DESC;FMTTYPE=text/html:<p>"Where do we come from?" Eine wichtige Frage, die sich jeder stellen sollte, wenn es um die bewegte Herkuft geht. Fest steht: Der HOMO MOTUS - der bewegte Mensch - steckt immer noch in uns, und um der Tatsache, dass wir immer bewegungsärmer werden, entgegen zu wirken, machen wir eine illustre Zeitreise ZURÜCK ZUM URSPRUNG!</p>
X-ACCESS:1
X-HITS:118
X-COLOR:c2c2a3
X-SHOW-END-TIME:1
END:VEVENT
BEGIN:VEVENT
DTSTART;TZID=Europe/Berlin:20260223T183000
DTEND;TZID=Europe/Berlin:20260223T200000
UID:1BAEFF72-A33F-46B3-803E-81E5807A8782
SUMMARY:PALEO MOVEMENT: THE PRIMAL ZONE
CREATED:20260114T084633Z
DTSTAMP:20260114T084633Z
URL:https://www.functionalmovementzone.at/schedule/paleo-movement-the-primal-zone-6
DESCRIPTION:"Where do we come from?" Eine wichtige Frage, die sich jeder stellen sollte, wenn es um die bewegte Herkuft geht. Fest steht: Der HOMO MOTUS - der bewegte Mensch - steckt immer noch in uns, und um der Tatsache, dass wir immer bewegungsärmer werden, entgegen zu wirken, machen wir eine illustre Zeitreise ZURÜCK ZUM URSPRUNG!
X-ALT-DESC;FMTTYPE=text/html:<p>"Where do we come from?" Eine wichtige Frage, die sich jeder stellen sollte, wenn es um die bewegte Herkuft geht. Fest steht: Der HOMO MOTUS - der bewegte Mensch - steckt immer noch in uns, und um der Tatsache, dass wir immer bewegungsärmer werden, entgegen zu wirken, machen wir eine illustre Zeitreise ZURÜCK ZUM URSPRUNG!</p>
X-ACCESS:1
X-HITS:150
X-COLOR:c2c2a3
X-SHOW-END-TIME:1
END:VEVENT
BEGIN:VEVENT
DTSTART;TZID=Europe/Berlin:20260429T183000
DTEND;TZID=Europe/Berlin:20260429T200000
UID:FAC2D125-AED7-44F8-9AF8-9B2B22BE8183
SUMMARY:PALEO MOVEMENT: WELCOME TO THE JUNGLE/THE STORY OF TARZAN
CREATED:20260319T122907Z
DTSTAMP:20260319T122907Z
URL:https://www.functionalmovementzone.at/schedule/paleo-movement-welcome-to-the-jungle-the-story-of-tarzan
DESCRIPTION:... und Jane natürlich! Hier gibt`s das Dschungel-Buch in Bewegungsform. Wir schlagen nach bei Balu, Onkel Louie, General Haathi und Co. Schwingen, Hängen, Balancieren, Kriechen, Trommeln, Tanzen... alles, was der Urwald so bietet, wird in dieser Einheit praktieziert. BACK TO THE ROOTS!
X-ALT-DESC;FMTTYPE=text/html:<p>... und Jane natürlich! Hier gibt`s das Dschungel-Buch in Bewegungsform. Wir schlagen nach bei Balu, Onkel Louie, General Haathi und Co. Schwingen, Hängen, Balancieren, Kriechen, Trommeln, Tanzen... alles, was der Urwald so bietet, wird in dieser Einheit praktieziert. BACK TO THE ROOTS!</p>
LAST-MODIFIED:20260319T122944Z
SEQUENCE:37
X-ACCESS:1
X-HITS:71
X-COLOR:c2c2a3
X-SHOW-END-TIME:1
END:VEVENT
BEGIN:VEVENT
DTSTART;TZID=Europe/Berlin:20260515T093000
DTEND;TZID=Europe/Berlin:20260515T110000
UID:FA372F10-F9BA-4A07-A6BC-39CFE2E3A774
SUMMARY:PALEO MOVEMENT: THE PRIMAL ZONE
CREATED:20260317T092958Z
DTSTAMP:20260317T092958Z
URL:https://www.functionalmovementzone.at/schedule/paleo-movement-the-primal-zone-7
DESCRIPTION:"Where do we come from?" Eine wichtige Frage, die sich jeder stellen sollte, wenn es um die bewegte Herkuft geht. Fest steht: Der HOMO MOTUS - der bewegte Mensch - steckt immer noch in uns, und um der Tatsache, dass wir immer bewegungsärmer werden, entgegen zu wirken, machen wir eine illustre Zeitreise ZURÜCK ZUM URSPRUNG!
X-ALT-DESC;FMTTYPE=text/html:<p>"Where do we come from?" Eine wichtige Frage, die sich jeder stellen sollte, wenn es um die bewegte Herkuft geht. Fest steht: Der HOMO MOTUS - der bewegte Mensch - steckt immer noch in uns, und um der Tatsache, dass wir immer bewegungsärmer werden, entgegen zu wirken, machen wir eine illustre Zeitreise ZURÜCK ZUM URSPRUNG!</p>
LAST-MODIFIED:20260319T123100Z
SEQUENCE:183662
X-ACCESS:1
X-HITS:38
X-COLOR:c2c2a3
X-SHOW-END-TIME:1
END:VEVENT
END:VCALENDAR